Workbook
Name A_impresión_IM: #REF!
Name A_impresión_IM: #REF!
Name A_impresión_IM: #REF!
Name INICIAL: #REF!
Name INICIAL: #REF!
Name INICIAL: #REF!
Name Títulos_a_imprimir_IM: #REF!
Name Títulos_a_imprimir_IM: #REF!
Name Títulos_a_imprimir_IM: #REF!
Name TRAMI: #REF!
Name TRAMI: #REF!
Name TRAMI: #REF!
Name VIGENTE: #REF!
Name VIGENTE: #REF!
Name VIGENTE: #REF!
Name xx: #REF!

Sheet VIGENTE
K2: PRESUPUESTO VIGENTE MOP 2026 AL MES DE AGOSTO | AH2: OCULTAR | AJ2: revisado 6agosto 18:27 los ingresos
K3: (Miles de $ 2026) | AJ3: aca es AG-inh y SISS
AJ5: OCULTAR
F6: =+F9-F38 -> 0 | G6: =+G9-G38 -> 0 | H6: =+H9-H38 -> 0 | I6: =+I9-I38 -> 0 | J6: =+J9-J38 -> 0 | K6: =+K9-K38 -> 0 | L6: =+L9-L38 -> 0 | M6: =+M9-M38 -> 0 | ... AH6: =+AH9-AH38 -> 0
F7: Subsecretaría | G7: Dirección de Arquitectura | H7: Min. Culturas, las Artes y El Patrimonio - D. Arquitectura | I7: Dirección de Obras Hidráulicas | J7: Adm. De Infraestructura - DOH | K7: Dirección de Vialidad | L7: Adm. De Infraestructura - DV | M7: Conservación por Adm. Directa - DV | N7: FET Incendios - DV | O7: Dirección de Obras Portuarias | P7: Constru. Repara. y Manten. De Transbordadores - DOP | Q7: Dirección de Aeropuertos | R7: Conservación por Adm. Directa - DAP | S7: Dirección General de Obras Públicas | T7: Fiscalía | U7: Dirección de Planeamiento | V7: Subdirección de Servicios Sanitarios Rurales | W7: Dirección de Contabilidad y Finanzas | X7: Infraestructura para el Buen Vivir | Y7: Dirección General de Concesiones de Obras Públicas | Z7: Dirección General de Aguas | AA7: Adm. De Infraestructura - DGA | AB7: Gestión Hídrica y Organizaciones - DGA | AC7: Tramitación de Expedientes - DGA | AD7: Instituto Nacional de Hidráulica | AE7: Superintendencia de Servicios Sanitarios | AF7: TRANSFERENCIAS | AG7: TOTAL | AH7: TOTAL LEY | AJ7: total mop
F8: 01-01 | G8: 02-02 | H8: 02-22 | I8: 02-03 | J8: 02-23 | K8: 02-04 | L8: 02-24 | M8: 02-34 | N8: 02-64 | O8: 02-06 | P8: 02-26 | Q8: 02-07 | R8: 02-37 | S8: 02-09 | T8: 02-10 | U8: 02-11 | V8: 02-12 | W8: 02-13 | X8: 02-14 | Y8: 03-01 | Z8: 04-01 | AA8: 04-02 | AB8: 04-03 | AC8: 04-04 | AD8: 05-01 | AE8: 07-01 | AF8: MOP | AG8: MOP | AH8: MOP | AJ8: sin inh y sss
B9: ST. IT. | D9: I N G R E S O S | F9: =+SUM(F10:F14,F19:F22)+F36+F37 -> 34440885 | G9: =+SUM(G10:G14,G19:G22)+G36+G37 -> 49784706 | H9: =+SUM(H10:H14,H19:H22)+H36+H37 -> 23252220 | I9: =+SUM(I10:I14,I19:I22)+I36+I37 -> 255699127 | J9: =+SUM(J10:J14,J19:J22)+J36+J37 -> 12114818 | K9: =+SUM(K10:K14,K19:K22)+K36+K37 -> 2119901927 | L9: =+SUM(L10:L14,L19:L22)+L36+L37 -> 16543467 | M9: =+SUM(M10:M14,M19:M22)+M36+M37 -> 211756969 | ... AH9: =+SUM(AH10:AH14,AH19:AH22)+AH36+AH37 -> 4944359967 | AJ9: =SUM(AJ11,AJ10,AJ12,AJ13,AJ14,AJ19,AJ20,AJ21,AJ22,AJ37,AJ36) -> 4612366274
B10: 05 | D10: TRANSFERENCIAS CORRIENTES | F10: 10 | G10: 10 | I10: 10 | K10: 10 | L10: 10 | M10: 548258 | O10: 10 | P10: 10 | Q10: 10 | R10: 10 | S10: 10 | T10: 10 | U10: 10 | V10: 10 | W10: 10 | Y10: 533081 | Z10: 10 | AB10: 10 | AC10: 10 | AD10: 10 | AE10: 10 | AF10: =+M10-10 -> 548248 | AG10: =+AH10-AF10 -> 533281 | AH10: =SUM(F10:AE10) -> 1081529 | AJ10: =+AG10-AE10-AD10 -> 533261
B11: 06 | D11: RENTAS DE LA PROPIEDAD | F11: 20463 | G11: 30521 | I11: 17296 | K11: 134030 | O11: 11386 | Q11: 8867 | T11: 1164 | U11: 2863 | W11: 10411 | Z11: 5480 | AD11: 4124 | AF11: 0 | AG11: =+AH11-AF11 -> 246605 | AH11: =SUM(F11:AE11) -> 246605 | AJ11: =+AG11-AE11-AD11 -> 242481
B12: 07 | D12: INGRESOS DE OPERACIÓN | I12: 9883 | K12: 9784190 | Y12: 41946194 | AD12: 857933 | AF12: 0 | AG12: =+AH12-AF12 -> 52598200 | AH12: =SUM(F12:AE12) -> 52598200 | AJ12: =+AG12-AE12-AD12 -> 51740267
B13: 08 | D13: OTROS INGRESOS CORRIENTES | F13: 835114 | G13: 288433 | I13: 381423 | J13: 0 | K13: 11197577 | L13: 10 | M13: 161568 | O13: 378704 | P13: 10 | Q13: 181592 | R13: 10 | S13: 64255 | T13: 7693 | U13: 193715 | V13: 197385 | W13: 72274 | Y13: 75984535 | Z13: 252127 | AA13: 0 | AB13: 10 | AC13: 10 | AD13: 14556 | AE13: 112097 | AF13: 0 | AG13: =+AH13-AF13 -> 90323098 | AH13: =SUM(F13:AE13) -> 90323098 | AJ13: =+AG13-AE13-AD13 -> 90196445
B14: 09 | D14: APORTE FISCAL: | F14: =SUM(F15,F18) -> 33585258 | G14: =SUM(G15,G18) -> 42893484 | H14: =SUM(H15,H18) -> 20 | I14: =SUM(I15,I18) -> 242616560 | J14: =SUM(J15,J18) -> 12114808 | K14: =SUM(K15,K18) -> 1875453312 | L14: =SUM(L15,L18) -> 16543427 | M14: =SUM(M15,M18) -> 210653075 | ... AE14: =SUM(AE15,AE18) -> 17130496 | AF14: 0 | AG14: =+AH14-AF14 -> 3615213138 | AH14: =SUM(F14:AE14) -> 3615213138 | AJ14: =+AG14-AE14-AD14 -> 3595830819
B15: 01 | D15: Libre | F15: =SUM(F16:F17) -> 33585258 | G15: =SUM(G16:G17) -> 42893484 | H15: =SUM(H16:H17) -> 20 | I15: =SUM(I16:I17) -> 242616560 | J15: =SUM(J16:J17) -> 12114808 | K15: =SUM(K16:K17) -> 1875453312 | L15: =SUM(L16:L17) -> 16543427 | M15: =SUM(M16:M17) -> 210653075 | ... AE15: =SUM(AE16:AE17) -> 17130496 | AF15: 0 | AG15: =+AH15-AF15 -> 3612349993 | AH15: =SUM(F15:AE15) -> 3612349993 | AJ15: =+AG15-AE15-AD15 -> 3592967674
D16: - Remuneraciones | F16: 21669377 | G16: 14654908 | I16: 23358355 | K16: 94842404 | L16: 8624536 | M16: 42189203 | O16: 11203595 | P16: 443752 | Q16: 8531433 | R16: 869831 | S16: 7749045 | T16: 4179440 | U16: 6484499 | V16: 15680092 | W16: 10731015 | X16: 303999 | Y16: 17785256 | Z16: 16686659 | AB16: 2374760 | AC16: 5663855 | AD16: 2222365 | AE16: 11243409 | AF16: 0 | AG16: =+AH16-AF16 -> 327491788 | AH16: =SUM(F16:AE16) -> 327491788 | AJ16: =+AG16-AE16-AD16 -> 314026014
D17: - Resto | F17: 11915881 | G17: 28238576 | H17: 20 | I17: 219258205 | J17: 12114808 | K17: 1780610908 | L17: 7918891 | M17: 168463872 | O17: 112052860 | P17: 17121834 | Q17: 140847618 | R17: 2577858 | S17: 11217295 | T17: 348533 | U17: 2337246 | V17: 243187867 | W17: 1035747 | X17: 336903678 | Y17: 154846722 | Z17: 20919045 | AA17: 3495895 | AB17: 3153857 | AC17: 374444 | AD17: 29458 | AE17: 5887087 | AF17: 0 | AG17: =+AH17-AF17 -> 3284858205 | AH17: =SUM(F17:AE17) -> 3284858205 | AJ17: =+AG17-AE17-AD17 -> 3278941660
B18: 03 | D18: Servicio Deuda | V18: 2863145 | AF18: 0 | AG18: =+AH18-AF18 -> 2863145 | AH18: =SUM(F18:AE18) -> 2863145 | AJ18: =+AG18-AE18-AD18 -> 2863145
B19: 10 | D19: VENTA DE ACTIVOS NO FINANCIEROS | F19: 20 | I19: 2578 | M19: 394048 | U19: 1753 | V19: 2062 | Z19: 12372 | AE19: 7217 | AF19: 0 | AG19: =+AH19-AF19 -> 420050 | AH19: =SUM(F19:AE19) -> 420050 | AJ19: =+AG19-AE19-AD19 -> 412833
B20: 11 | D20: VENTA DE ACTIVOS FINANCIEROS | AF20: 0 | AG20: =+AH20-AF20 -> 0 | AH20: =SUM(F20:AE20) -> 0 | AJ20: =+AG20-AE20-AD20 -> 0
B21: 12 | D21: RECUPERACION DE PRESTAMOS | F21: 10 | G21: 10 | I21: 77977 | K21: 3025552 | L21: 10 | M21: 10 | O21: 65323 | P21: 0 | Q21: 64515 | R21: 10 | S21: 10 | T21: 10 | U21: 10 | V21: 225708 | W21: 10 | Y21: 10 | Z21: 31058 | AA21: 0 | AB21: 20781 | AD21: 81423 | AE21: 10 | AF21: 0 | AG21: =+AH21-AF21 -> 3592447 | AH21: =SUM(F21:AE21) -> 3592447 | AJ21: =+AG21-AE21-AD21 -> 3511014
B22: 13 | D22: TRANSF. PARA GASTOS DE CAPITAL | F22: =+F23+F24 -> 0 | G22: =+G23+G24 -> 6572238 | H22: =+H23+H24 -> 23252200 | I22: =+I23+I24 -> 12593390 | J22: =+J23+J24 -> 0 | K22: =+K23+K24 -> 220307246 | L22: =+L23+L24 -> 0 | M22: =+M23+M24 -> 0 | ... AF22: =+AF23+AF24 -> 309709331 | AG22: =+AH22-AF22 -> 708274352 | AH22: =SUM(F22:AE22) -> 1017983683 | AJ22: =+AG22-AE22-AD22 -> 708274352
B23: 01 | D23: Al Sector Privado | K23: 2400000 | Y23: 10774898 | AF23: 0 | AG23: =+AH23-AF23 -> 13174898 | AH23: =SUM(F23:AE23) -> 13174898
B24: 02 | D24: Al Gobierno Central | F24: =+SUM(F25:F34) -> 0 | G24: =+SUM(G25:G34) -> 6572238 | H24: =+SUM(H25:H34) -> 23252200 | I24: =+SUM(I25:I34) -> 12593390 | J24: =+SUM(J25:J34) -> 0 | K24: =+SUM(K25:K34) -> 217907246 | L24: =+SUM(L25:L34) -> 0 | M24: =+SUM(M25:M34) -> 0 | N24: =+SUM(N25:N35) -> 1000 | O24: =+SUM(O25:O34) -> 6714226 | P24: =+SUM(P25:P34) -> 0 | Q24: =+SUM(Q25:Q34) -> 3851000 | R24: =+SUM(R25:R34) -> 0 | S24: =+SUM(S25:S34) -> 0 | T24: =+SUM(T25:T34) -> 0 | U24: =+SUM(U25:U34) -> 0 | V24: =+SUM(V25:V34) -> 62071231 | ... AF24: =+SUM(AF25:AF34) -> 309709331 | AG24: =+AH24-AF24 -> 695099454 | AH24: =SUM(F24:AE24) -> 1004808785
D25: 001 - I.V.A Concesiones Obras Públicas | Y25: 551482891 | AF25: 0 | AG25: =+AH25-AF25 -> 551482891 | AH25: =SUM(F25:AE25) -> 551482891
D26: 002 - Fondo De Infraestructura | Y26: 104596558 | AF26: 0 | AG26: =+AH26-AF26 -> 104596558 | AH26: =SUM(F26:AE26) -> 104596558
D27: 003 - Servicio Nacional del Patrimonio Cultural | H27: 11908036 | AF27: 0 | AG27: =+AH27-AF27 -> 11908036 | AH27: =SUM(F27:AE27) -> 11908036
D28: 005 - Reintegro IVA Concesiones DGAC | Y28: 15766805 | AF28: 0 | AG28: =+AH28-AF28 -> 15766805 | AH28: =SUM(F28:AE28) -> 15766805
D29: 014 - Servicio Agricola y Ganadero | AF29: 0 | AG29: =+AH29-AF29 -> 0 | AH29: =SUM(F29:AE29) -> 0
D30: 015 - Servicio Nacional de Aduanas | AF30: =+SUM(G30:AE30) -> 0 | AG30: =+AH30-AF30 -> 0 | AH30: =SUM(F30:AE30) -> 0
D31: 027 - SUBDERE - Recuperacion Region del Maule | AF31: 0 | AG31: =+AH31-AF31 -> 0 | AH31: =SUM(F31:AE31) -> 0
D32: 029 - Subsecretaria de las Culturas y las Artes | H32: 11344164 | AF32: 0 | AG32: =+AH32-AF32 -> 11344164 | AH32: =SUM(F32:AE32) -> 11344164
D33: 300 - De Programa de Infraestructura para el Buen Vivir | G33: 6572238 | I33: 12593390 | K33: 217907246 | O33: 6714226 | Q33: 3851000 | V33: 62071231 | AF33: =+SUM(G33:AE33) -> 309709331 | AG33: =+AH33-AF33 -> 0 | AH33: =SUM(F33:AE33) -> 309709331
D34: 301 - De Fondo De Infraestructura para el Desarrollo 2023 | AF34: =+SUM(G34:AE34) -> 0 | AG34: =+AH34-AF34 -> 0 | AH34: =SUM(F34:AE34) -> 0
D35: 400 - FET por Incendios - Ley N°21.681 | N35: 1000
B36: 14 | D36: ENDEUDAMIENTO | AF36: 0 | AG36: =+AH36-AF36 -> 0 | AH36: =SUM(F36:AE36) -> 0 | AJ36: =+AG36-AE36-AD36 -> 0
B37: 15 | D37: SALDO INICIAL DE CAJA | F37: 10 | G37: 10 | I37: 10 | J37: 10 | K37: 10 | L37: 10 | M37: 10 | O37: 10 | P37: 10 | Q37: 10 | R37: 10 | S37: 10 | T37: 10 | U37: 10 | V37: 10 | W37: 10 | X37: 10 | Y37: 160911200 | Z37: 10 | AA37: 161882 | AB37: 551540 | AD37: 91915 | AE37: 1184500 | AF37: 0 | AG37: =+AH37-AF37 -> 162901217 | AH37: =SUM(F37:AE37) -> 162901217 | AJ37: =+AG37-AE37-AD37 -> 161624802
D38: G A S T O S | F38: =SUM(F39,F40,F41,F42,F48,F49,F50,F59,F60,F64,F65,F69,F70) -> 34440885 | G38: =SUM(G39,G40,G41,G42,G48,G49,G50,G59,G60,G64,G65,G69,G70) -> 49784706 | H38: =SUM(H39,H40,H41,H42,H48,H49,H50,H59,H60,H64,H65,H69,H70) -> 23252220 | I38: =SUM(I39,I40,I41,I42,I48,I49,I50,I59,I60,I64,I65,I69,I70) -> 255699127 | J38: =SUM(J39,J40,J41,J42,J48,J49,J50,J59,J60,J64,J65,J69,J70) -> 12114818 | K38: =SUM(K39,K40,K41,K42,K48,K49,K50,K59,K60,K64,K65,K69,K70) -> 2119901927 | L38: =SUM(L39,L40,L41,L42,L48,L49,L50,L59,L60,L64,L65,L69,L70) -> 16543467 | M38: =SUM(M39,M40,M41,M42,M48,M49,M50,M59,M60,M64,M65,M69,M70) -> 211756969 | ... AG38: =SUM(AG39,AG40,AG41,AG42,AG48,AG49,AG50,AG59,AG60,AG64,AG65,AG69,AG70) -> 4634102388 | AH38: =SUM(F38:AE38) -> 4944359967 | AJ38: =SUM(AJ39,AJ40,AJ41,AJ42,AJ48,AJ49,AJ50,AJ59:AJ60,AJ64,AJ65,AJ69,AJ70) -> 4612366274
B39: 21 | D39: GASTOS EN PERSONAL | F39: 21669377 | G39: 14654908 | I39: 23358355 | K39: 94842404 | L39: 8624536 | M39: 42189203 | O39: 11203595 | P39: 443752 | Q39: 8531433 | R39: 869831 | S39: 7749045 | T39: 4179440 | U39: 6484499 | V39: 15680092 | W39: 10731015 | X39: 303999 | Y39: 18318327 | Z39: 16686659 | AB39: 2374760 | AC39: 5663855 | AD39: 2216362 | AE39: 11243409 | AF39: 0 | AG39: =+AH39-AF39 -> 328018856 | AH39: =SUM(F39:AE39) -> 328018856 | AJ39: =+AG39-AE39-AD39 -> 314559085
B40: 22 | D40: BIENES Y SERVICIOS DE CONSUMO | F40: 7263264 | G40: 995599 | I40: 5019469 | J40: 10954062 | K40: 8292432 | L40: 3800453 | M40: 47361878 | O40: 750423 | P40: 9796603 | Q40: 553613 | R40: 397169 | S40: 742284 | T40: 227225 | U40: 342132 | V40: 1957225 | W40: 568819 | X40: 21531 | Y40: 1254348 | Z40: 2299247 | AA40: 1596558 | AB40: 351771 | AC40: 188854 | AD40: 341697 | AE40: 5301270 | AF40: 0 | AG40: =+AH40-AF40 -> 110377926 | AH40: =SUM(F40:AE40) -> 110377926 | AJ40: =+AG40-AE40-AD40 -> 104734959
B41: 23 | D41: PRESTACIONES DE SEG. SOCIAL | F41: 12618 | G41: 152798 | I41: 321942 | K41: 556366 | L41: 22855 | M41: 330602 | O41: 210865 | Q41: 20 | R41: 20 | S41: 102380 | T41: 36349 | U41: 10 | V41: 20 | W41: 56013 | Y41: 10 | Z41: 14352 | AD41: 35471 | AE41: 27333 | AF41: 0 | AG41: =+AH41-AF41 -> 1880024 | AH41: =SUM(F41:AE41) -> 1880024 | AJ41: =+AG41-AE41-AD41 -> 1817220
B42: 24 | D42: TRANSFERENCIAS CORRIENTES | F42: =+SUM(F43:F47) -> 0 | G42: =+SUM(G43:G47) -> 0 | H42: =+SUM(H43:H47) -> 0 | I42: =+SUM(I43:I47) -> 548248 | J42: =+SUM(J43:J47) -> 0 | K42: =+SUM(K43:K47) -> 1289671 | L42: =+SUM(L43:L47) -> 0 | M42: =+SUM(M43:M47) -> 0 | ... AF42: =+SUM(AF43:AF47) -> 548248 | AG42: =+AH42-AF42 -> 10420698 | AH42: =SUM(F42:AE42) -> 10968946 | AJ42: =+AG42-AE42-AD42 -> 10420698
...

Sheet EJEC NO IMPRIMIR
K2: PRESUPUESTO EJECUTADO MOP 2026 AL MES DE AGOSTO
K3: INGRESAR EN PESOS -----NO IMPRIMIR---- | M3: INGRESAR EN PESOS -----NO IMPRIMIR----
F7: Subsecretaría | G7: Dirección de Arquitectura | H7: Min. Culturas, las Artes y El Patrimonio - D. Arquitectura | I7: Dirección de Obras Hidráulicas | J7: Adm. De Infraestructura - DOH | K7: Dirección de Vialidad | L7: Adm. De Infraestructura - DV | M7: Conservación por Adm. Directa - DV | N7: FET Incendios - DV | O7: Dirección de Obras Portuarias | P7: Constru. Repara. y Manten. De Transbordadores - DOP | Q7: Dirección de Aeropuertos | R7: Conservación por Adm. Directa - DAP | S7: Dirección General de Obras Públicas | T7: Fiscalía | U7: Dirección de Planeamiento | V7: Subdirección de Servicios Sanitarios Rurales | W7: Dirección de Contabilidad y Finanzas | X7: Infraestructura para el Buen Vivir | Y7: Dirección General de Concesiones de Obras Públicas | Z7: Dirección General de Aguas | AA7: Adm. De Infraestructura - DGA | AB7: Gestión Hídrica y Organizaciones - DGA | AC7: Tramitación de Expedientes - DGA | AD7: INH | AE7: SSS | AF7: TRANSFERENCIAS | AG7: TOTAL | AH7: TOTAL | AJ7: total mop
F8: 01-01 | G8: 02-02 | H8: 02-22 | I8: 02-03 | J8: 02-23 | K8: 02-04 | L8: 02-24 | M8: 02-34 | N8: 02-64 | O8: 02-06 | P8: 02-26 | Q8: 02-07 | R8: 02-37 | S8: 02-09 | T8: 02-10 | U8: 02-11 | V8: 02-12 | W8: 02-13 | X8: 02-14 | Y8: 03-01 | Z8: 04-01 | AA8: 04-02 | AB8: 04-03 | AC8: 04-04 | AD8: 05-01 | AE8: 07-01 | AF8: MOP | AG8: MOP | AH8: MOP | AJ8: sin inh y sss
B9: ST. IT. | D9: I N G R E S O S | F9: =SUM(F11,F12,F13,F14,F19,F20,F21,F22,F36,F37,F10) -> 18108767474 | G9: =SUM(G11,G12,G13,G14,G19,G20,G21,G22,G36,G37,G10) -> 40599903792 | H9: =SUM(H11,H12,H13,H14,H19,H20,H21,H22,H36,H37,H10) -> 12447088637 | I9: =SUM(I11,I12,I13,I14,I19,I20,I21,I22,I36,I37,I10) -> 115227134174 | J9: =SUM(J11,J12,J13,J14,J19,J20,J21,J22,J36,J37,J10) -> 8008416508 | K9: =SUM(K11,K12,K13,K14,K19,K20,K21,K22,K36,K37,K10) -> 1058080916605 | L9: =SUM(L11,L12,L13,L14,L19,L20,L21,L22,L36,L37,L10) -> 10537519850 | M9: =SUM(M11,M12,M13,M14,M19,M20,M21,M22,M36,M37,M10) -> 113494380552 | O9: =SUM(O11,O12,O13,O14,O19,O20,O21,O22,O36,O37,O10) -> 81099622543 | P9: =SUM(P11,P12,P13,P14,P19,P20,P21,P22,P36,P37,P10) -> 8108884589 | Q9: =SUM(Q11,Q12,Q13,Q14,Q19,Q20,Q21,Q22,Q36,Q37,Q10) -> 96701313505 | R9: =SUM(R11,R12,R13,R14,R19,R20,R21,R22,R36,R37,R10) -> 1855866128 | S9: =SUM(S11,S12,S13,S14,S19,S20,S21,S22,S36,S37,S10) -> 10317483911 | T9: =SUM(T11,T12,T13,T14,T19,T20,T21,T22,T36,T37,T10) -> 3201932842 | U9: =SUM(U11,U12,U13,U14,U19,U20,U21,U22,U36,U37,U10) -> 6773285040 | V9: =SUM(V11,V12,V13,V14,V19,V20,V21,V22,V36,V37,V10) -> 148052486845 | ... AE9: =SUM(AE11,AE12,AE13,AE14,AE19,AE20,AE21,AE22,AE36,AE37,AE10) -> 10838587000 | AF9: =+SUM(AF10:AF14,AF19:AF22)+AF36+AF37 -> 128625126690 | AG9: =+SUM(AG10:AG14,AG19:AG22)+AG36+AG37 -> 2769780832263 | AH9: =SUM(AH11,AH12,AH13,AH14,AH19,AH20,AH21,AH22,AH36,AH37,AH10) -> 2898405958953 | AJ9: =SUM(AJ11,AJ10,AJ12,AJ13,AJ14,AJ19,AJ20,AJ21,AJ22,AJ37,AJ36) -> 2757196479263
B10: 05 | D10: TRANSFERENCIAS CORRIENTES | F10: 196906370 | G10: 60319252 | I10: 170993893 | K10: 1099283010 | L10: 137868419 | M10: 214725966 | O10: 77129163 | P10: 45736 | Q10: 38859748 | R10: 0 | S10: 98363436 | T10: 6069220 | U10: 34877026 | V10: 69938170 | W10: 136707185 | Y10: 23253710 | Z10: 166409494 | AB10: 11401270 | AC10: 36494777 | AD10: 2866000 | AE10: 1279000 | AF10: =+X10 -> 0 | AG10: =+AH10-AF10 -> 2583790845 | AH10: =SUM(F10:AE10) -> 2583790845 | AJ10: =+AG10-AE10-AD10 -> 2579645845
B11: 06 | D11: RENTAS DE LA PROPIEDAD | F11: 14420841 | G11: 19567540 | I11: 11522810 | K11: 104781244 | M11: 3635481 | O11: 7787745 | Q11: 5357353 | R11: 470300 | T11: 741596 | U11: 1905649 | V11: 2713581 | W11: 6741135 | Z11: 3164908 | AD11: 2273000 | AF11: 0 | AG11: =+AH11-AF11 -> 185083183 | AH11: =SUM(F11:AE11) -> 185083183 | AJ11: =+AG11-AE11-AD11 -> 182810183 | AL11: OK
B12: 07 | D12: INGRESOS DE OPERACIÓN | I12: 2333794728 | K12: 4765813938 | Y12: 38518668155 | AD12: 168229000 | AF12: 0 | AG12: =+AH12-AF12 -> 45786505821 | AH12: =SUM(F12:AE12) -> 45786505821 | AJ12: =+AG12-AE12-AD12 -> 45618276821 | AL12: OK
B13: 08 | D13: OTROS INGRESOS CORRIENTES | F13: 317243307 | G13: 272241546 | H13: 61502320 | I13: 963934751 | J13: 417253 | K13: 9635841976 | L13: 43377334 | M13: 321525379 | O13: 331055272 | P13: 12541 | Q13: 211664195 | R13: 3870344 | S13: 148470668 | T13: 112030004 | U13: 103327575 | V13: 1340341509 | W13: 117203711 | Y13: 126718946298 | Z13: 280497887 | AA13: 2277056 | AB13: 15939608 | AC13: 27328161 | AD13: 18882000 | AE13: 122835000 | AF13: 0 | AG13: =+AH13-AF13 -> 141170765695 | AH13: =SUM(F13:AE13) -> 141170765695 | AJ13: =+AG13-AE13-AD13 -> 141029048695 | AL13: OK
B14: 09 | D14: APORTE FISCAL: | F14: =SUM(F15,F18) -> 18149164000 | G14: =SUM(G15,G18) -> 16975826000 | H14: =SUM(H15,H18) -> 0 | I14: =SUM(I15,I18) -> 99667000000 | J14: =SUM(J15,J18) -> 6647000000 | K14: =SUM(K15,K18) -> 1029860644013 | L14: =SUM(L15,L18) -> 9222871000 | M14: =SUM(M15,M18) -> 116964374000 | ... AE14: =SUM(AE15,AE18) -> 10714473000 | AF14: 0 | AG14: =+AH14-AF14 -> 1872920105007 | AH14: =SUM(F14:AE14) -> 1872920105007 | AJ14: =+AG14-AE14-AD14 -> 1860885499007
B15: 01 | D15: Libre | F15: =SUM(F16:F17) -> 18149164000 | G15: =SUM(G16:G17) -> 16975826000 | H15: =SUM(H16:H17) -> 0 | I15: =SUM(I16:I17) -> 99667000000 | J15: =SUM(J16:J17) -> 6647000000 | K15: =SUM(K16:K17) -> 1029860644013 | L15: =SUM(L16:L17) -> 9222871000 | M15: =SUM(M16:M17) -> 116964374000 | ... AE15: =SUM(AE16:AE17) -> 10714473000 | AF15: 0 | AG15: =+AH15-AF15 -> 1871572679013 | AH15: =SUM(F15:AE15) -> 1871572679013 | AJ15: =+AG15-AE15-AD15 -> 1859538073013
D16: - Remuneraciones | F16: 13784477000 | G16: 9425826000 | I16: 13847000000 | K16: 66062738213 | L16: 5650871000 | M16: 31161374000 | O16: 7250862000 | P16: 263752000 | Q16: 5921700000 | R16: 612500000 | S16: 5402510000 | T16: 2743380000 | U16: 4176570000 | V16: 8220000000 | W16: 7056727000 | X16: 113225000 | Y16: 11319491000 | Z16: 11251207000 | AB16: 1534000000 | AC16: 3764900000 | AD16: 1320133000 | AE16: 6876872000 | AF16: 0 | AG16: =+AH16-AF16 -> 217760115213 | AH16: =SUM(F16:AE16) -> 217760115213 | AJ16: =+AG16-AE16-AD16 -> 209563110213 | AL16: OK
D17: - Resto | F17: 4364687000 | G17: 7550000000 | I17: 85820000000 | J17: 6647000000 | K17: 963797905800 | L17: 3572000000 | M17: 85803000000 | O17: 52470000000 | P17: 6236000000 | Q17: 66091000000 | R17: 1077000000 | S17: 3175000000 | T17: 90000000 | U17: 1132000000 | V17: 77790000000 | W17: 266000000 | X17: 131344000000 | Y17: 134440322000 | Z17: 15105203000 | AA17: 1443391000 | AB17: 1500000000 | AC17: 260454000 | AE17: 3837601000 | AF17: 0 | AG17: =+AH17-AF17 -> 1653812563800 | AH17: =SUM(F17:AE17) -> 1653812563800 | AJ17: =+AG17-AE17-AD17 -> 1649974962800 | AL17: OK
B18: 03 | D18: Servicio Deuda | V18: 1347425994 | AF18: 0 | AG18: =+AH18-AF18 -> 1347425994 | AH18: =SUM(F18:AE18) -> 1347425994 | AJ18: =+AG18-AE18-AD18 -> 1347425994
B19: 10 | D19: VENTA DE ACTIVOS NO FINANCIEROS | F19: 6970000 | I19: 44040000 | K19: 1169900000 | O19: 8000000 | U19: 0 | V19: 0 | Z19: 0 | AF19: 0 | AG19: =+AH19-AF19 -> 1228910000 | AH19: =SUM(F19:AE19) -> 1228910000 | AJ19: =+AG19-AE19-AD19 -> 1228910000 | AL19: OK
B20: 11 | D20: VENTA DE ACTIVOS FINANCIEROS | AF20: 0 | AG20: =+AH20-AF20 -> 0 | AH20: =SUM(F20:AE20) -> 0 | AJ20: =+AG20-AE20-AD20 -> 0
B21: 12 | D21: RECUPERACION DE PRESTAMOS | F21: 1680143066 | G21: 1270727296 | H21: 669201317 | I21: 3513863736 | K21: 42214079174 | L21: 130503552 | M21: 429514002 | O21: 3646909592 | P21: 562066 | Q21: 1468838877 | R21: 1258970 | S21: 583514941 | T21: 154462891 | U21: 342198175 | V21: 3127079258 | W21: 995346295 | Y21: 268645471 | Z21: 1282958732 | AA21: 385528 | AB21: 41892028 | AD21: 139770000 | AF21: 0 | AG21: =+AH21-AF21 -> 61961854967 | AH21: =SUM(F21:AE21) -> 61961854967 | AJ21: =+AG21-AE21-AD21 -> 61822084967 | AL21: OK
B22: 13 | D22: TRANSF. PARA GASTOS DE CAPITAL | F22: =+F23+F24 -> 0 | G22: =+G23+G24 -> 4959938547 | H22: =+H23+H24 -> 11716385000 | I22: =+I23+I24 -> 5113616066 | J22: =+J23+J24 -> 0 | K22: =+K23+K24 -> 87532206609 | L22: =+L23+L24 -> 0 | M22: =+M23+M24 -> 0 | ... AF22: =+AF23+AF24 -> 128625126690 | AG22: =+AH22-AF22 -> 512350767120 | AH22: =SUM(F22:AE22) -> 640975893810 | AJ22: =+AG22-AE22-AD22 -> 512350767120
B23: 01 | D23: Al Sector Privado | F23: 0 | K23: 2200000000 | Y23: 101855976120 | AF23: 0 | AG23: =+AH23-AF23 -> 104055976120 | AH23: =SUM(F23:AE23) -> 104055976120 | AJ23: =+AG23-AE23-AD23 -> 104055976120
B24: 02 | D24: Al Gobierno Central | F24: =+SUM(F25:F34) -> 0 | G24: =+SUM(G25:G34) -> 4959938547 | H24: =+SUM(H25:H34) -> 11716385000 | I24: =+SUM(I25:I34) -> 5113616066 | J24: =+SUM(J25:J34) -> 0 | K24: =+SUM(K25:K34) -> 85332206609 | L24: =+SUM(L25:L34) -> 0 | M24: =+SUM(M25:M34) -> 0 | ... AF24: =+SUM(AF25:AF34) -> 128625126690 | AG24: =+AH24-AF24 -> 408294791000 | AH24: =SUM(F24:AE24) -> 536919917690 | AJ24: =+AG24-AE24-AD24 -> 408294791000
D25: 001 - I.V.A Concesiones Obras Públicas | Y25: 378789406000 | AF25: 0 | AG25: =+AH25-AF25 -> 378789406000 | AH25: =SUM(F25:AE25) -> 378789406000 | AJ25: =+AG25-AE25-AD25 -> 378789406000
D26: 002 - Fondo De Infraestructura | Y26: 17289000000 | AF26: 0 | AG26: =+AH26-AF26 -> 17289000000 | AH26: =SUM(F26:AE26) -> 17289000000 | AJ26: =+AG26-AE26-AD26 -> 17289000000
D27: 003 - Servicio Nacional del Patrimonio Cultural | G27: 500000000 | H27: 5000000000 | AF27: 0 | AG27: =+AH27-AF27 -> 5500000000 | AH27: =SUM(F27:AE27) -> 5500000000 | AJ27: =+AG27-AE27-AD27 -> 5500000000
D28: 005 - Reintegro IVA Concesiones DGAC | Y28: 0 | AF28: 0 | AG28: =+AH28-AF28 -> 0 | AH28: =SUM(F28:AE28) -> 0 | AJ28: =+AG28-AE28-AD28 -> 0
D29: 014 - Servicio Agricola y Ganadero | AF29: 0 | AG29: =+AH29-AF29 -> 0 | AH29: =SUM(F29:AE29) -> 0 | AJ29: =+AG29-AE29-AD29 -> 0 | AM29: 132098
D30: 015 - Servicio Nacional de Aduanas | AF30: 0 | AG30: =+AH30-AF30 -> 0 | AH30: =SUM(F30:AE30) -> 0 | AJ30: =+AG30-AE30-AD30 -> 0 | AM30: 17597
D31: 027 - SUBDERE - Recuperacion Region del Maule | AF31: 0 | AG31: =+AH31-AF31 -> 0 | AH31: =SUM(F31:AE31) -> 0 | AJ31: =+AG31-AE31-AD31 -> 0 | AM31: 9831
D32: 029 - Subsecretaria de las Culturas y las Artes | H32: 6716385000 | AF32: 0 | AG32: =+AH32-AF32 -> 6716385000 | AH32: =SUM(F32:AE32) -> 6716385000 | AJ32: =+AG32-AE32-AD32 -> 6716385000 | AM32: 35461
D33: 300 - De Programa de Infraestructura para el Buen Vivir | G33: 4459938547 | I33: 5113616066 | K33: 85332206609 | O33: 5134565638 | Q33: 497940501 | V33: 28086859329 | AF33: =+SUM(G33:AE33) -> 128625126690 | AG33: =+AH33-AF33 -> 0 | AH33: =SUM(F33:AE33) -> 128625126690 | AJ33: =+AG33-AE33-AD33 -> 0 | AM33: 147121
D34: 301 - De Fondo De Infraestructura para el Desarrollo 2023 | AF34: =+SUM(G34:AE34) -> 0 | AG34: =+AH34-AF34 -> 0 | AH34: =SUM(F34:AE34) -> 0 | AJ34: =+AG34-AE34-AD34 -> 0 | AM34: 1290460
D35: 400 - FET por Incendios - Ley N°21.681 | AM35: =SUM(AM29:AM34) -> 1632568
B36: 14 | D36: ENDEUDAMIENTO | AF36: 0 | AG36: =+AH36-AF36 -> 0 | AH36: =SUM(F36:AE36) -> 0 | AJ36: =+AG36-AE36-AD36 -> 0
B37: 15 | D37: SALDO INICIAL DE CAJA | F37: -2256080110 | G37: 17041283611 | I37: 3408368190 | J37: 1360999255 | K37: -118301633359 | L37: 1002899545 | M37: -4439394276 | O37: 12173313133 | P37: 1608512246 | Q37: 22465952831 | R37: 160766514 | S37: 909624866 | T37: 95249131 | U37: 982406615 | V37: 28068129004 | W37: 467562267 | X37: 57344510 | Y37: 165978688790 | Z37: -347883391 | AA37: 161882385 | AB37: 901444868 | AD37: 93613000 | AF37: 0 | AG37: =+AH37-AF37 -> 131593049625 | AH37: =SUM(F37:AE37) -> 131593049625 | AJ37: =+AG37-AE37-AD37 -> 131499436625
D38: G A S T O S | F38: =SUM(F39,F40,F41,F42,F48,F49,F50,F59,F60,F64,F65,F69,F70) -> 20190014377 | G38: =SUM(G39,G40,G41,G42,G48,G49,G50,G59,G60,G64,G65,G69,G70) -> 33261163062 | H38: =SUM(H39,H40,H41,H42,H48,H49,H50,H59,H60,H64,H65,H69,H70) -> 6094793288 | I38: =SUM(I39,I40,I41,I42,I48,I49,I50,I59,I60,I64,I65,I69,I70) -> 125920842078 | J38: =SUM(J39,J40,J41,J42,J48,J49,J50,J59,J60,J64,J65,J69,J70) -> 8001228972 | K38: =SUM(K39,K40,K41,K42,K48,K49,K50,K59,K60,K64,K65,K69,K70) -> 1314977098755 | L38: =SUM(L39,L40,L41,L42,L48,L49,L50,L59,L60,L64,L65,L69,L70) -> 9061347665 | M38: =SUM(M39,M40,M41,M42,M48,M49,M50,M59,M60,M64,M65,M69,M70) -> 109297682402 | ... AG38: =SUM(AG39,AG40,AG41,AG42,AG48,AG49,AG50,AG59,AG60,AG64,AG65,AG69,AG70) -> 2714982689964 | AH38: =SUM(F38:AE38) -> 2843607816654 | AJ38: =SUM(AJ39,AJ40,AJ41,AJ42,AJ48,AJ49,AJ50,AJ59,AJ60,AJ64,AJ65,AJ69,AJ70) -> 2700966525964
B39: 21 | D39: GASTOS EN PERSONAL | F39: 13634017848 | G39: 9404511915 | I39: 15572327879 | K39: 65158074357 | L39: 5896873655 | M39: 29134318185 | O39: 7202057556 | P39: 266865058 | Q39: 5602047020 | R39: 577309012 | S39: 5181425641 | T39: 2763480031 | U39: 4261891130 | V39: 10350871747 | W39: 7161263114 | X39: 113650296 | Y39: 11951349693 | Z39: 11034075025 | AB39: 1476079716 | AC39: 3867795483 | AD39: 1290460000 | AE39: 8011822000 | AF39: 0 | AG39: =+AH39-AF39 -> 219912566361 | AH39: =SUM(F39:AE39) -> 219912566361 | AJ39: =+AG39-AE39-AD39 -> 210610284361 | AL39: OK
B40: 22 | D40: BIENES Y SERVICIOS DE CONSUMO | F40: 4151875967 | G40: 511702489 | I40: 2500192177 | J40: 6840483268 | K40: 4522616889 | L40: 2088258671 | M40: 24546643058 | O40: 381467943 | P40: 1822814501 | Q40: 311806063 | R40: 128441635 | S40: 464663756 | T40: 139540327 | U40: 193482272 | V40: 956166626 | W40: 342672568 | X40: 411596 | Y40: 730169237 | Z40: 1221625407 | AA40: 577321405 | AB40: 13745855 | AC40: 38928111 | AD40: 147121000 | AE40: 3094753000 | AF40: 0 | AG40: =+AH40-AF40 -> 55726903821 | AH40: =SUM(F40:AE40) -> 55726903821 | AJ40: =+AG40-AE40-AD40 -> 52485029821 | AL40: OK
B41: 23 | D41: PRESTACIONES DE SEG. SOCIAL | F41: 152600041 | G41: 265803515 | I41: 468606524 | K41: 963615569 | L41: 157699486 | M41: 767155560 | O41: 230436150 | Q41: 65661160 | R41: 715269 | S41: 168578543 | T41: 143470968 | U41: 59912717 | V41: 33333095 | W41: 195081847 | Y41: 62037733 | Z41: 136588660 | AD41: 35461000 | AE41: 27323000 | AF41: 0 | AG41: =+AH41-AF41 -> 3934080837 | AH41: =SUM(F41:AE41) -> 3934080837 | AJ41: =+AG41-AE41-AD41 -> 3871296837 | AL41: OK
B42: 24 | D42: TRANSFERENCIAS CORRIENTES | F42: =+SUM(F43:F47) -> 0 | G42: =+SUM(G43:G47) -> 0 | H42: =+SUM(H43:H47) -> 0 | I42: =+SUM(I43:I47) -> 0 | J42: =+SUM(J43:J47) -> 0 | K42: =+SUM(K43:K47) -> 0 | L42: =+SUM(L43:L47) -> 0 | M42: =+SUM(M43:M47) -> 0 | ... AF42: =+SUM(AF43:AF47) -> 0 | AG42: =+AH42-AF42 -> 3140480993 | AH42: =SUM(F42:AE42) -> 3140480993 | AI42: =+SUM(AI43:AI45) -> 0 | AJ42: =+AG42-AE42-AD42 -> 3140480993 | AL42: OK
B43: 01 | D43: Al Sector Privado | S43: 96256380 | Z43: 170860000 | AF43: 0 | AG43: =+AH43-AF43 -> 267116380 | AH43: =SUM(F43:AE43) -> 267116380 | AJ43: =+AG43-AE43-AD43 -> 267116380
B44: 02 | D44: Al Gobierno Central | O44: 1927703200 | AF44: 0 | AG44: =+AH44-AF44 -> 1927703200 | AH44: =SUM(F44:AE44) -> 1927703200
...

Sheet EJECUTADO
D1: 1000
K2: PRESUPUESTO EJECUTADO MOP 2026 AL MES DE AGOSTO
K3: (Miles de $ 2026)
F7: Subsecretaría | G7: Dirección de Arquitectura | H7: Min. Culturas, las Artes y El Patrimonio - D. Arquitectura | I7: Dirección de Obras Hidráulicas | J7: Adm. De Infraestructura - DOH | K7: Dirección de Vialidad | L7: Adm. De Infraestructura - DV | M7: Conservación por Adm. Directa - DV | N7: FET Incendios - DV | O7: Dirección de Obras Portuarias | P7: Constru. Repara. y Manten. De Transbordadores - DOP | Q7: Dirección de Aeropuertos | R7: Conservación por Adm. Directa - DAP | S7: Dirección General de Obras Públicas | T7: Fiscalía | U7: Dirección de Planeamiento | V7: Subdirección de Servicios Sanitarios Rurales | W7: Dirección de Contabilidad y Finanzas | X7: Infraestructura para el Buen Vivir | Y7: Dirección General de Concesiones de Obras Públicas | Z7: Dirección General de Aguas | AA7: Adm. De Infraestructura - DGA | AB7: Gestión Hídrica y Organizaciones - DGA | AC7: Tramitación de Expedientes - DGA | AD7: Instituto Nacional de Hidráulica | AE7: Superintendencia de Servicios Sanitarios | AF7: TRANSFERENCIAS | AG7: TOTAL | AH7: TOTAL LEY | AJ7: total mop
F8: 01-01 | G8: 02-02 | H8: 02-22 | I8: 02-03 | J8: 02-23 | K8: 02-04 | L8: 02-24 | M8: 02-34 | N8: 02-64 | O8: 02-06 | P8: 02-26 | Q8: 02-07 | R8: 02-37 | S8: 02-09 | T8: 02-10 | U8: 02-11 | V8: 02-12 | W8: 02-13 | X8: 02-14 | Y8: 03-01 | Z8: 04-01 | AA8: 04-02 | AB8: 04-03 | AC8: 04-04 | AD8: 05-01 | AE8: 07-01 | AF8: MOP | AG8: MOP | AH8: MOP | AJ8: sin inh y sss | AM8: suma regular + FET | AQ8: 1000
B9: ST. IT. | D9: I N G R E S O S | F9: =SUM(F11,F12,F13,F14,F19,F20,F21,F22,F36,F37,F10) -> 18108767 | G9: =SUM(G11,G12,G13,G14,G19,G20,G21,G22,G36,G37,G10) -> 40599904 | H9: =SUM(H11,H12,H13,H14,H19,H20,H21,H22,H36,H37,H10) -> 12447089 | I9: =SUM(I11,I12,I13,I14,I19,I20,I21,I22,I36,I37,I10) -> 1.1522713e+08 | J9: =SUM(J11,J12,J13,J14,J19,J20,J21,J22,J36,J37,J10) -> 8008416.5 | K9: =SUM(K11,K12,K13,K14,K19,K20,K21,K22,K36,K37,K10) -> 1.0580809e+09 | L9: =SUM(L11,L12,L13,L14,L19,L20,L21,L22,L36,L37,L10) -> 10537520 | M9: =SUM(M11,M12,M13,M14,M19,M20,M21,M22,M36,M37,M10) -> 1.1349438e+08 | ... AG9: =SUM(AG11,AG12,AG13,AG14,AG19,AG20,AG21,AG22,AG36,AG37,AG10) -> 2.7697808e+09 | AH9: =SUM(AH11,AH12,AH13,AH14,AH19,AH20,AH21,AH22,AH37,AH10,AH36) -> 2.898406e+09 | AJ9: =SUM(AJ11,AJ10,AJ12,AJ13,AJ14,AJ19,AJ20,AJ21,AJ22,AJ37,AJ36) -> 2.8858216e+09 | AL9: =SUM(AL11,AL10,AL12,AL13,AL14,AL19,AL20,AL21,AL22,AL37,AL36) -> #REF! | AM9: =+AJ9+AL9 -> #REF! | AP9: =+(AH9-AD9-AE9)+#REF! -> #REF! | AV9: =+AH9+#REF! -> #REF!
B10: 05 | D10: TRANSFERENCIAS CORRIENTES | F10: ='EJEC NO IMPRIMIR'!F10/EJECUTADO!$D$1 -> 196906.37 | G10: ='EJEC NO IMPRIMIR'!G10/EJECUTADO!$D$1 -> 60319.252 | H10: ='EJEC NO IMPRIMIR'!H10/EJECUTADO!$D$1 -> 0 | I10: ='EJEC NO IMPRIMIR'!I10/EJECUTADO!$D$1 -> 170993.89 | J10: ='EJEC NO IMPRIMIR'!J10/EJECUTADO!$D$1 -> 0 | K10: ='EJEC NO IMPRIMIR'!K10/EJECUTADO!$D$1 -> 1099283 | L10: ='EJEC NO IMPRIMIR'!L10/EJECUTADO!$D$1 -> 137868.42 | M10: ='EJEC NO IMPRIMIR'!M10/EJECUTADO!$D$1 -> 214725.97 | ... AH10: ='EJEC NO IMPRIMIR'!AH10/EJECUTADO!$D$1 -> 2583790.8 | AJ10: =+AH10-AE10-AD10 -> 2579645.8 | AM10: =+AJ10+AL10 -> 2579645.8
B11: 06 | D11: RENTAS DE LA PROPIEDAD | F11: ='EJEC NO IMPRIMIR'!F11/EJECUTADO!$D$1 -> 14420.841 | G11: ='EJEC NO IMPRIMIR'!G11/EJECUTADO!$D$1 -> 19567.54 | H11: ='EJEC NO IMPRIMIR'!H11/EJECUTADO!$D$1 -> 0 | I11: ='EJEC NO IMPRIMIR'!I11/EJECUTADO!$D$1 -> 11522.81 | J11: ='EJEC NO IMPRIMIR'!J11/EJECUTADO!$D$1 -> 0 | K11: ='EJEC NO IMPRIMIR'!K11/EJECUTADO!$D$1 -> 104781.24 | L11: ='EJEC NO IMPRIMIR'!L11/EJECUTADO!$D$1 -> 0 | M11: ='EJEC NO IMPRIMIR'!M11/EJECUTADO!$D$1 -> 3635.481 | ... AH11: ='EJEC NO IMPRIMIR'!AH11/EJECUTADO!$D$1 -> 185083.18 | AJ11: =+AH11-AE11-AD11 -> 182810.18 | AM11: =+AJ11+AL11 -> 182810.18 | AP11: 128095636 | AQ11: =+AP11/$AQ$8 -> 128095.64 | AR11: =+AM11-AQ11 -> 54714.547
B12: 07 | D12: INGRESOS DE OPERACIÓN | F12: ='EJEC NO IMPRIMIR'!F12/EJECUTADO!$D$1 -> 0 | G12: ='EJEC NO IMPRIMIR'!G12/EJECUTADO!$D$1 -> 0 | H12: ='EJEC NO IMPRIMIR'!H12/EJECUTADO!$D$1 -> 0 | I12: ='EJEC NO IMPRIMIR'!I12/EJECUTADO!$D$1 -> 2333794.7 | J12: ='EJEC NO IMPRIMIR'!J12/EJECUTADO!$D$1 -> 0 | K12: ='EJEC NO IMPRIMIR'!K12/EJECUTADO!$D$1 -> 4765813.9 | L12: ='EJEC NO IMPRIMIR'!L12/EJECUTADO!$D$1 -> 0 | M12: ='EJEC NO IMPRIMIR'!M12/EJECUTADO!$D$1 -> 0 | ... AH12: ='EJEC NO IMPRIMIR'!AH12/EJECUTADO!$D$1 -> 45786506 | AJ12: =+AH12-AE12-AD12 -> 45618277 | AM12: =+AJ12+AL12 -> 45618277 | AP12: 23144149493 | AQ12: =+AP12/$AQ$8 -> 23144149 | AR12: =+AM12-AQ12 -> 22474127
B13: 08 | D13: OTROS INGRESOS CORRIENTES | F13: ='EJEC NO IMPRIMIR'!F13/EJECUTADO!$D$1 -> 317243.31 | G13: ='EJEC NO IMPRIMIR'!G13/EJECUTADO!$D$1 -> 272241.55 | H13: ='EJEC NO IMPRIMIR'!H13/EJECUTADO!$D$1 -> 61502.32 | I13: ='EJEC NO IMPRIMIR'!I13/EJECUTADO!$D$1 -> 963934.75 | J13: ='EJEC NO IMPRIMIR'!J13/EJECUTADO!$D$1 -> 417.253 | K13: ='EJEC NO IMPRIMIR'!K13/EJECUTADO!$D$1 -> 9635842 | L13: ='EJEC NO IMPRIMIR'!L13/EJECUTADO!$D$1 -> 43377.334 | M13: ='EJEC NO IMPRIMIR'!M13/EJECUTADO!$D$1 -> 321525.38 | ... AH13: ='EJEC NO IMPRIMIR'!AH13/EJECUTADO!$D$1 -> 1.4117077e+08 | AJ13: =+AH13-AE13-AD13 -> 1.4102905e+08 | AL13: =+#REF! -> #REF! | AM13: =+AJ13+AL13 -> #REF! | AP13: 33381115545 | AQ13: =+AP13/$AQ$8 -> 33381116 | AR13: =+AM13-AQ13 -> #REF!
B14: 09 | D14: APORTE FISCAL: | F14: ='EJEC NO IMPRIMIR'!F14/EJECUTADO!$D$1 -> 18149164 | G14: ='EJEC NO IMPRIMIR'!G14/EJECUTADO!$D$1 -> 16975826 | H14: ='EJEC NO IMPRIMIR'!H14/EJECUTADO!$D$1 -> 0 | I14: ='EJEC NO IMPRIMIR'!I14/EJECUTADO!$D$1 -> 99667000 | J14: ='EJEC NO IMPRIMIR'!J14/EJECUTADO!$D$1 -> 6647000 | K14: ='EJEC NO IMPRIMIR'!K14/EJECUTADO!$D$1 -> 1.0298606e+09 | L14: ='EJEC NO IMPRIMIR'!L14/EJECUTADO!$D$1 -> 9222871 | M14: ='EJEC NO IMPRIMIR'!M14/EJECUTADO!$D$1 -> 116964374 | ... AH14: ='EJEC NO IMPRIMIR'!AH14/EJECUTADO!$D$1 -> 1.8729201e+09 | AJ14: =+AH14-AE14-AD14 -> 1.8608855e+09 | AM14: =+AJ14+AL14 -> 1.8608855e+09 | AQ14: =+AP14/$AQ$8 -> 0 | AR14: =+AM14-AQ14 -> 1.8608855e+09
B15: 01 | D15: Libre | F15: ='EJEC NO IMPRIMIR'!F15/EJECUTADO!$D$1 -> 18149164 | G15: ='EJEC NO IMPRIMIR'!G15/EJECUTADO!$D$1 -> 16975826 | H15: ='EJEC NO IMPRIMIR'!H15/EJECUTADO!$D$1 -> 0 | I15: ='EJEC NO IMPRIMIR'!I15/EJECUTADO!$D$1 -> 99667000 | J15: ='EJEC NO IMPRIMIR'!J15/EJECUTADO!$D$1 -> 6647000 | K15: ='EJEC NO IMPRIMIR'!K15/EJECUTADO!$D$1 -> 1.0298606e+09 | L15: ='EJEC NO IMPRIMIR'!L15/EJECUTADO!$D$1 -> 9222871 | M15: ='EJEC NO IMPRIMIR'!M15/EJECUTADO!$D$1 -> 116964374 | ... AH15: ='EJEC NO IMPRIMIR'!AH15/EJECUTADO!$D$1 -> 1.8715727e+09 | AJ15: =+AH15-AE15-AD15 -> 1.8595381e+09 | AM15: =+AJ15+AL15 -> 1.8595381e+09 | AQ15: =+AP15/$AQ$8 -> 0 | AR15: =+AM15-AQ15 -> 1.8595381e+09
D16: - Remuneraciones | F16: ='EJEC NO IMPRIMIR'!F16/EJECUTADO!$D$1 -> 13784477 | G16: ='EJEC NO IMPRIMIR'!G16/EJECUTADO!$D$1 -> 9425826 | H16: ='EJEC NO IMPRIMIR'!H16/EJECUTADO!$D$1 -> 0 | I16: ='EJEC NO IMPRIMIR'!I16/EJECUTADO!$D$1 -> 13847000 | J16: ='EJEC NO IMPRIMIR'!J16/EJECUTADO!$D$1 -> 0 | K16: ='EJEC NO IMPRIMIR'!K16/EJECUTADO!$D$1 -> 66062738 | L16: ='EJEC NO IMPRIMIR'!L16/EJECUTADO!$D$1 -> 5650871 | M16: ='EJEC NO IMPRIMIR'!M16/EJECUTADO!$D$1 -> 31161374 | ... AH16: ='EJEC NO IMPRIMIR'!AH16/EJECUTADO!$D$1 -> 2.1776012e+08 | AJ16: =+AH16-AE16-AD16 -> 2.0956311e+08 | AM16: =+AJ16+AL16 -> 2.0956311e+08 | AP16: 122660085000 | AQ16: =+AP16/$AQ$8 -> 122660085 | AR16: =+AM16-AQ16 -> 86903025
D17: - Resto | F17: ='EJEC NO IMPRIMIR'!F17/EJECUTADO!$D$1 -> 4364687 | G17: ='EJEC NO IMPRIMIR'!G17/EJECUTADO!$D$1 -> 7550000 | H17: ='EJEC NO IMPRIMIR'!H17/EJECUTADO!$D$1 -> 0 | I17: ='EJEC NO IMPRIMIR'!I17/EJECUTADO!$D$1 -> 85820000 | J17: ='EJEC NO IMPRIMIR'!J17/EJECUTADO!$D$1 -> 6647000 | K17: ='EJEC NO IMPRIMIR'!K17/EJECUTADO!$D$1 -> 9.6379791e+08 | L17: ='EJEC NO IMPRIMIR'!L17/EJECUTADO!$D$1 -> 3572000 | M17: ='EJEC NO IMPRIMIR'!M17/EJECUTADO!$D$1 -> 85803000 | ... AH17: ='EJEC NO IMPRIMIR'!AH17/EJECUTADO!$D$1 -> 1.6538126e+09 | AJ17: =+AH17-AE17-AD17 -> 1.649975e+09 | AM17: =+AJ17+AL17 -> 1.649975e+09 | AP17: 809032850000 | AQ17: =+AP17/$AQ$8 -> 809032850 | AR17: =+AM17-AQ17 -> 8.4094211e+08
B18: 03 | D18: Servicio Deuda | F18: ='EJEC NO IMPRIMIR'!F18/EJECUTADO!$D$1 -> 0 | G18: ='EJEC NO IMPRIMIR'!G18/EJECUTADO!$D$1 -> 0 | H18: ='EJEC NO IMPRIMIR'!H18/EJECUTADO!$D$1 -> 0 | I18: ='EJEC NO IMPRIMIR'!I18/EJECUTADO!$D$1 -> 0 | J18: ='EJEC NO IMPRIMIR'!J18/EJECUTADO!$D$1 -> 0 | K18: ='EJEC NO IMPRIMIR'!K18/EJECUTADO!$D$1 -> 0 | L18: ='EJEC NO IMPRIMIR'!L18/EJECUTADO!$D$1 -> 0 | M18: ='EJEC NO IMPRIMIR'!M18/EJECUTADO!$D$1 -> 0 | ... AH18: ='EJEC NO IMPRIMIR'!AH18/EJECUTADO!$D$1 -> 1347426 | AJ18: =+AH18-AE18-AD18 -> 1347426 | AM18: =+AJ18+AL18 -> 1347426 | AP18: 321874632 | AQ18: =+AP18/$AQ$8 -> 321874.63 | AR18: =+AM18-AQ18 -> 1025551.4
B19: 10 | D19: VENTA DE ACTIVOS NO FINANCIEROS | F19: ='EJEC NO IMPRIMIR'!F19/EJECUTADO!$D$1 -> 6970 | G19: ='EJEC NO IMPRIMIR'!G19/EJECUTADO!$D$1 -> 0 | H19: ='EJEC NO IMPRIMIR'!H19/EJECUTADO!$D$1 -> 0 | I19: ='EJEC NO IMPRIMIR'!I19/EJECUTADO!$D$1 -> 44040 | J19: ='EJEC NO IMPRIMIR'!J19/EJECUTADO!$D$1 -> 0 | K19: ='EJEC NO IMPRIMIR'!K19/EJECUTADO!$D$1 -> 1169900 | L19: ='EJEC NO IMPRIMIR'!L19/EJECUTADO!$D$1 -> 0 | M19: ='EJEC NO IMPRIMIR'!M19/EJECUTADO!$D$1 -> 0 | ... AH19: ='EJEC NO IMPRIMIR'!AH19/EJECUTADO!$D$1 -> 1228910 | AJ19: =+AH19-AE19-AD19 -> 1228910 | AM19: =+AJ19+AL19 -> 1228910 | AQ19: =+AP19/$AQ$8 -> 0 | AR19: =+AM19-AQ19 -> 1228910
B20: 11 | D20: VENTA DE ACTIVOS FINANCIEROS | F20: ='EJEC NO IMPRIMIR'!F20/EJECUTADO!$D$1 -> 0 | G20: ='EJEC NO IMPRIMIR'!G20/EJECUTADO!$D$1 -> 0 | H20: ='EJEC NO IMPRIMIR'!H20/EJECUTADO!$D$1 -> 0 | I20: ='EJEC NO IMPRIMIR'!I20/EJECUTADO!$D$1 -> 0 | J20: ='EJEC NO IMPRIMIR'!J20/EJECUTADO!$D$1 -> 0 | K20: ='EJEC NO IMPRIMIR'!K20/EJECUTADO!$D$1 -> 0 | L20: ='EJEC NO IMPRIMIR'!L20/EJECUTADO!$D$1 -> 0 | M20: ='EJEC NO IMPRIMIR'!M20/EJECUTADO!$D$1 -> 0 | ... AH20: ='EJEC NO IMPRIMIR'!AH20/EJECUTADO!$D$1 -> 0 | AJ20: =+AH20-AE20-AD20 -> 0 | AM20: =+AJ20+AL20 -> 0 | AQ20: =+AP20/$AQ$8 -> 0 | AR20: =+AM20-AQ20 -> 0
B21: 12 | D21: RECUPERACION DE PRESTAMOS | F21: ='EJEC NO IMPRIMIR'!F21/EJECUTADO!$D$1 -> 1680143.1 | G21: ='EJEC NO IMPRIMIR'!G21/EJECUTADO!$D$1 -> 1270727.3 | H21: ='EJEC NO IMPRIMIR'!H21/EJECUTADO!$D$1 -> 669201.32 | I21: ='EJEC NO IMPRIMIR'!I21/EJECUTADO!$D$1 -> 3513863.7 | J21: ='EJEC NO IMPRIMIR'!J21/EJECUTADO!$D$1 -> 0 | K21: ='EJEC NO IMPRIMIR'!K21/EJECUTADO!$D$1 -> 42214079 | L21: ='EJEC NO IMPRIMIR'!L21/EJECUTADO!$D$1 -> 130503.55 | M21: ='EJEC NO IMPRIMIR'!M21/EJECUTADO!$D$1 -> 429514 | ... AH21: ='EJEC NO IMPRIMIR'!AH21/EJECUTADO!$D$1 -> 61961855 | AJ21: =+AH21-AE21-AD21 -> 61822085 | AL21: =+#REF! -> #REF! | AM21: =+AJ21+AL21 -> #REF! | AP21: 4590792528 | AQ21: =+AP21/$AQ$8 -> 4590792.5 | AR21: =+AM21-AQ21 -> #REF!
B22: 13 | D22: TRANSF. PARA GASTOS DE CAPITAL | F22: ='EJEC NO IMPRIMIR'!F22/EJECUTADO!$D$1 -> 0 | G22: ='EJEC NO IMPRIMIR'!G22/EJECUTADO!$D$1 -> 4959938.5 | H22: ='EJEC NO IMPRIMIR'!H22/EJECUTADO!$D$1 -> 11716385 | I22: ='EJEC NO IMPRIMIR'!I22/EJECUTADO!$D$1 -> 5113616.1 | J22: ='EJEC NO IMPRIMIR'!J22/EJECUTADO!$D$1 -> 0 | K22: ='EJEC NO IMPRIMIR'!K22/EJECUTADO!$D$1 -> 87532207 | L22: ='EJEC NO IMPRIMIR'!L22/EJECUTADO!$D$1 -> 0 | M22: ='EJEC NO IMPRIMIR'!M22/EJECUTADO!$D$1 -> 0 | ... AH22: ='EJEC NO IMPRIMIR'!AH22/EJECUTADO!$D$1 -> 6.4097589e+08 | AJ22: =+AH22-AE22-AD22 -> 6.4097589e+08 | AL22: =+#REF! -> #REF! | AM22: =+AJ22+AL22 -> #REF! | AP22: 370760546774 | AQ22: =+AP22/$AQ$8 -> 3.7076055e+08 | AR22: =+AM22-AQ22 -> #REF!
B23: 01 | D23: Al Sector Privado | F23: ='EJEC NO IMPRIMIR'!F23/EJECUTADO!$D$1 -> 0 | G23: ='EJEC NO IMPRIMIR'!G23/EJECUTADO!$D$1 -> 0 | H23: ='EJEC NO IMPRIMIR'!H23/EJECUTADO!$D$1 -> 0 | I23: ='EJEC NO IMPRIMIR'!I23/EJECUTADO!$D$1 -> 0 | J23: ='EJEC NO IMPRIMIR'!J23/EJECUTADO!$D$1 -> 0 | K23: ='EJEC NO IMPRIMIR'!K23/EJECUTADO!$D$1 -> 2200000 | L23: ='EJEC NO IMPRIMIR'!L23/EJECUTADO!$D$1 -> 0 | M23: ='EJEC NO IMPRIMIR'!M23/EJECUTADO!$D$1 -> 0 | ... AH23: ='EJEC NO IMPRIMIR'!AH23/EJECUTADO!$D$1 -> 1.0405598e+08
B24: 02 | D24: Al Gobierno Central | F24: ='EJEC NO IMPRIMIR'!F24/EJECUTADO!$D$1 -> 0 | G24: ='EJEC NO IMPRIMIR'!G24/EJECUTADO!$D$1 -> 4959938.5 | H24: ='EJEC NO IMPRIMIR'!H24/EJECUTADO!$D$1 -> 11716385 | I24: ='EJEC NO IMPRIMIR'!I24/EJECUTADO!$D$1 -> 5113616.1 | J24: ='EJEC NO IMPRIMIR'!J24/EJECUTADO!$D$1 -> 0 | K24: ='EJEC NO IMPRIMIR'!K24/EJECUTADO!$D$1 -> 85332207 | L24: ='EJEC NO IMPRIMIR'!L24/EJECUTADO!$D$1 -> 0 | M24: ='EJEC NO IMPRIMIR'!M24/EJECUTADO!$D$1 -> 0 | ... AH24: ='EJEC NO IMPRIMIR'!AH24/EJECUTADO!$D$1 -> 5.3691992e+08
D25: 001 - I.V.A Concesiones Obras Públicas | F25: ='EJEC NO IMPRIMIR'!F25/EJECUTADO!$D$1 -> 0 | G25: ='EJEC NO IMPRIMIR'!G25/EJECUTADO!$D$1 -> 0 | H25: ='EJEC NO IMPRIMIR'!H25/EJECUTADO!$D$1 -> 0 | I25: ='EJEC NO IMPRIMIR'!I25/EJECUTADO!$D$1 -> 0 | J25: ='EJEC NO IMPRIMIR'!J25/EJECUTADO!$D$1 -> 0 | K25: ='EJEC NO IMPRIMIR'!K25/EJECUTADO!$D$1 -> 0 | L25: ='EJEC NO IMPRIMIR'!L25/EJECUTADO!$D$1 -> 0 | M25: ='EJEC NO IMPRIMIR'!M25/EJECUTADO!$D$1 -> 0 | ... AH25: ='EJEC NO IMPRIMIR'!AH25/EJECUTADO!$D$1 -> 378789406
D26: 002 - Fondo De Infraestructura | F26: ='EJEC NO IMPRIMIR'!F26/EJECUTADO!$D$1 -> 0 | G26: ='EJEC NO IMPRIMIR'!G26/EJECUTADO!$D$1 -> 0 | H26: ='EJEC NO IMPRIMIR'!H26/EJECUTADO!$D$1 -> 0 | I26: ='EJEC NO IMPRIMIR'!I26/EJECUTADO!$D$1 -> 0 | J26: ='EJEC NO IMPRIMIR'!J26/EJECUTADO!$D$1 -> 0 | K26: ='EJEC NO IMPRIMIR'!K26/EJECUTADO!$D$1 -> 0 | L26: ='EJEC NO IMPRIMIR'!L26/EJECUTADO!$D$1 -> 0 | M26: ='EJEC NO IMPRIMIR'!M26/EJECUTADO!$D$1 -> 0 | ... AH26: ='EJEC NO IMPRIMIR'!AH26/EJECUTADO!$D$1 -> 17289000
D27: 003 - Servicio Nacional del Patrimonio Cultural | F27: ='EJEC NO IMPRIMIR'!F27/EJECUTADO!$D$1 -> 0 | G27: ='EJEC NO IMPRIMIR'!G27/EJECUTADO!$D$1 -> 500000 | H27: ='EJEC NO IMPRIMIR'!H27/EJECUTADO!$D$1 -> 5000000 | I27: ='EJEC NO IMPRIMIR'!I27/EJECUTADO!$D$1 -> 0 | J27: ='EJEC NO IMPRIMIR'!J27/EJECUTADO!$D$1 -> 0 | K27: ='EJEC NO IMPRIMIR'!K27/EJECUTADO!$D$1 -> 0 | L27: ='EJEC NO IMPRIMIR'!L27/EJECUTADO!$D$1 -> 0 | M27: ='EJEC NO IMPRIMIR'!M27/EJECUTADO!$D$1 -> 0 | ... AH27: ='EJEC NO IMPRIMIR'!AH27/EJECUTADO!$D$1 -> 5500000
D28: 005 - Reintegro IVA Concesiones DGAC | F28: ='EJEC NO IMPRIMIR'!F28/EJECUTADO!$D$1 -> 0 | G28: ='EJEC NO IMPRIMIR'!G28/EJECUTADO!$D$1 -> 0 | H28: ='EJEC NO IMPRIMIR'!H28/EJECUTADO!$D$1 -> 0 | I28: ='EJEC NO IMPRIMIR'!I28/EJECUTADO!$D$1 -> 0 | J28: ='EJEC NO IMPRIMIR'!J28/EJECUTADO!$D$1 -> 0 | K28: ='EJEC NO IMPRIMIR'!K28/EJECUTADO!$D$1 -> 0 | L28: ='EJEC NO IMPRIMIR'!L28/EJECUTADO!$D$1 -> 0 | M28: ='EJEC NO IMPRIMIR'!M28/EJECUTADO!$D$1 -> 0 | ... AH28: ='EJEC NO IMPRIMIR'!AH28/EJECUTADO!$D$1 -> 0
D29: 014 - Servicio Agricola y Ganadero | F29: ='EJEC NO IMPRIMIR'!F29/EJECUTADO!$D$1 -> 0 | G29: ='EJEC NO IMPRIMIR'!G29/EJECUTADO!$D$1 -> 0 | H29: ='EJEC NO IMPRIMIR'!H29/EJECUTADO!$D$1 -> 0 | I29: ='EJEC NO IMPRIMIR'!I29/EJECUTADO!$D$1 -> 0 | J29: ='EJEC NO IMPRIMIR'!J29/EJECUTADO!$D$1 -> 0 | K29: ='EJEC NO IMPRIMIR'!K29/EJECUTADO!$D$1 -> 0 | L29: ='EJEC NO IMPRIMIR'!L29/EJECUTADO!$D$1 -> 0 | M29: ='EJEC NO IMPRIMIR'!M29/EJECUTADO!$D$1 -> 0 | ... AH29: ='EJEC NO IMPRIMIR'!AH29/EJECUTADO!$D$1 -> 0
D30: 015 - Servicio Nacional de Aduanas | F30: ='EJEC NO IMPRIMIR'!F30/EJECUTADO!$D$1 -> 0 | G30: ='EJEC NO IMPRIMIR'!G30/EJECUTADO!$D$1 -> 0 | H30: ='EJEC NO IMPRIMIR'!H30/EJECUTADO!$D$1 -> 0 | I30: ='EJEC NO IMPRIMIR'!I30/EJECUTADO!$D$1 -> 0 | J30: ='EJEC NO IMPRIMIR'!J30/EJECUTADO!$D$1 -> 0 | K30: ='EJEC NO IMPRIMIR'!K30/EJECUTADO!$D$1 -> 0 | L30: ='EJEC NO IMPRIMIR'!L30/EJECUTADO!$D$1 -> 0 | M30: ='EJEC NO IMPRIMIR'!M30/EJECUTADO!$D$1 -> 0 | ... AH30: ='EJEC NO IMPRIMIR'!AH30/EJECUTADO!$D$1 -> 0
D31: 027 - SUBDERE - Recuperacion Region del Maule | F31: ='EJEC NO IMPRIMIR'!F31/EJECUTADO!$D$1 -> 0 | G31: ='EJEC NO IMPRIMIR'!G31/EJECUTADO!$D$1 -> 0 | H31: ='EJEC NO IMPRIMIR'!H31/EJECUTADO!$D$1 -> 0 | I31: ='EJEC NO IMPRIMIR'!I31/EJECUTADO!$D$1 -> 0 | J31: ='EJEC NO IMPRIMIR'!J31/EJECUTADO!$D$1 -> 0 | K31: ='EJEC NO IMPRIMIR'!K31/EJECUTADO!$D$1 -> 0 | L31: ='EJEC NO IMPRIMIR'!L31/EJECUTADO!$D$1 -> 0 | M31: ='EJEC NO IMPRIMIR'!M31/EJECUTADO!$D$1 -> 0 | ... AH31: ='EJEC NO IMPRIMIR'!AH31/EJECUTADO!$D$1 -> 0
D32: 029 - Subsecretaria de las Culturas y las Artes | F32: ='EJEC NO IMPRIMIR'!F32/EJECUTADO!$D$1 -> 0 | G32: ='EJEC NO IMPRIMIR'!G32/EJECUTADO!$D$1 -> 0 | H32: ='EJEC NO IMPRIMIR'!H32/EJECUTADO!$D$1 -> 6716385 | I32: ='EJEC NO IMPRIMIR'!I32/EJECUTADO!$D$1 -> 0 | J32: ='EJEC NO IMPRIMIR'!J32/EJECUTADO!$D$1 -> 0 | K32: ='EJEC NO IMPRIMIR'!K32/EJECUTADO!$D$1 -> 0 | L32: ='EJEC NO IMPRIMIR'!L32/EJECUTADO!$D$1 -> 0 | M32: ='EJEC NO IMPRIMIR'!M32/EJECUTADO!$D$1 -> 0 | ... AH32: ='EJEC NO IMPRIMIR'!AH32/EJECUTADO!$D$1 -> 6716385
D33: 300 - De Programa de Infraestructura para el Buen Vivir | F33: ='EJEC NO IMPRIMIR'!F33/EJECUTADO!$D$1 -> 0 | G33: ='EJEC NO IMPRIMIR'!G33/EJECUTADO!$D$1 -> 4459938.5 | H33: ='EJEC NO IMPRIMIR'!H33/EJECUTADO!$D$1 -> 0 | I33: ='EJEC NO IMPRIMIR'!I33/EJECUTADO!$D$1 -> 5113616.1 | J33: ='EJEC NO IMPRIMIR'!J33/EJECUTADO!$D$1 -> 0 | K33: ='EJEC NO IMPRIMIR'!K33/EJECUTADO!$D$1 -> 85332207 | L33: ='EJEC NO IMPRIMIR'!L33/EJECUTADO!$D$1 -> 0 | M33: ='EJEC NO IMPRIMIR'!M33/EJECUTADO!$D$1 -> 0 | ... AH33: ='EJEC NO IMPRIMIR'!AH33/EJECUTADO!$D$1 -> 1.2862513e+08
D34: 301 - De Fondo De Infraestructura para el Desarrollo 2023 | F34: ='EJEC NO IMPRIMIR'!F34/EJECUTADO!$D$1 -> 0 | G34: ='EJEC NO IMPRIMIR'!G34/EJECUTADO!$D$1 -> 0 | H34: ='EJEC NO IMPRIMIR'!H34/EJECUTADO!$D$1 -> 0 | I34: ='EJEC NO IMPRIMIR'!I34/EJECUTADO!$D$1 -> 0 | J34: ='EJEC NO IMPRIMIR'!J34/EJECUTADO!$D$1 -> 0 | K34: ='EJEC NO IMPRIMIR'!K34/EJECUTADO!$D$1 -> 0 | L34: ='EJEC NO IMPRIMIR'!L34/EJECUTADO!$D$1 -> 0 | M34: ='EJEC NO IMPRIMIR'!M34/EJECUTADO!$D$1 -> 0 | ... AH34: ='EJEC NO IMPRIMIR'!AH34/EJECUTADO!$D$1 -> 0
D35: 400 - FET por Incendios - Ley N°21.681
B36: 14 | D36: ENDEUDAMIENTO | F36: ='EJEC NO IMPRIMIR'!F36/EJECUTADO!$D$1 -> 0 | G36: ='EJEC NO IMPRIMIR'!G36/EJECUTADO!$D$1 -> 0 | H36: ='EJEC NO IMPRIMIR'!H36/EJECUTADO!$D$1 -> 0 | I36: ='EJEC NO IMPRIMIR'!I36/EJECUTADO!$D$1 -> 0 | J36: ='EJEC NO IMPRIMIR'!J36/EJECUTADO!$D$1 -> 0 | K36: ='EJEC NO IMPRIMIR'!K36/EJECUTADO!$D$1 -> 0 | L36: ='EJEC NO IMPRIMIR'!L36/EJECUTADO!$D$1 -> 0 | M36: ='EJEC NO IMPRIMIR'!M36/EJECUTADO!$D$1 -> 0 | ... AH36: ='EJEC NO IMPRIMIR'!AH36/EJECUTADO!$D$1 -> 0 | AJ36: =+AH36-AE36-AD36 -> 0 | AM36: =+AJ36+AL36 -> 0 | AQ36: =+AP36/$AQ$8 -> 0 | AR36: =+AM36-AQ36 -> 0
B37: 15 | D37: SALDO INICIAL DE CAJA | F37: ='EJEC NO IMPRIMIR'!F37/EJECUTADO!$D$1 -> -2256080.1 | G37: ='EJEC NO IMPRIMIR'!G37/EJECUTADO!$D$1 -> 17041284 | H37: ='EJEC NO IMPRIMIR'!H37/EJECUTADO!$D$1 -> 0 | I37: ='EJEC NO IMPRIMIR'!I37/EJECUTADO!$D$1 -> 3408368.2 | J37: ='EJEC NO IMPRIMIR'!J37/EJECUTADO!$D$1 -> 1360999.3 | K37: ='EJEC NO IMPRIMIR'!K37/EJECUTADO!$D$1 -> -1.1830163e+08 | L37: ='EJEC NO IMPRIMIR'!L37/EJECUTADO!$D$1 -> 1002899.5 | M37: ='EJEC NO IMPRIMIR'!M37/EJECUTADO!$D$1 -> -4439394.3 | ... AH37: ='EJEC NO IMPRIMIR'!AH37/EJECUTADO!$D$1 -> 1.3159305e+08 | AJ37: =+AH37-AE37-AD37 -> 1.3149944e+08 | AL37: =+#REF! -> #REF! | AM37: =+AJ37+AL37 -> #REF! | AP37: 30008336678 | AQ37: =+AP37/$AQ$8 -> 30008337 | AR37: =+AM37-AQ37 -> #REF!
D38: G A S T O S | F38: =SUM(F39,F40,F41,F42,F48,F49,F50,F59,F60,F64,F65,F69,F70) -> 20190014 | G38: =SUM(G39,G40,G41,G42,G48,G49,G50,G59,G60,G64,G65,G69,G70) -> 33261163 | H38: =SUM(H39,H40,H41,H42,H48,H49,H50,H59,H60,H64,H65,H69,H70) -> 6094793.3 | I38: =SUM(I39,I40,I41,I42,I48,I49,I50,I59,I60,I64,I65,I69,I70) -> 1.2592084e+08 | J38: =SUM(J39,J40,J41,J42,J48,J49,J50,J59,J60,J64,J65,J69,J70) -> 8001229 | K38: =SUM(K39,K40,K41,K42,K48,K49,K50,K59,K60,K64,K65,K69,K70) -> 1.3149771e+09 | L38: =SUM(L39,L40,L41,L42,L48,L49,L50,L59,L60,L64,L65,L69,L70) -> 9061347.7 | M38: =SUM(M39,M40,M41,M42,M48,M49,M50,M59,M60,M64,M65,M69,M70) -> 1.0929768e+08 | ... AH38: =SUM(AH39,AH40,AH41,AH42,AH48,AH49,AH50,AH59,AH60,AH64,AH65,AH69,AH70) -> 2.8436078e+09 | AJ38: =SUM(AJ39,AJ40,AJ41,AJ42,AJ48,AJ49,AJ50,AJ59,AJ60,AJ64,AJ65,AJ69,AJ70) -> 2.8295917e+09 | AL38: =SUM(AL39,AL40,AL41,AL42,AL48,AL49,AL50,AL59,AL60,AL64,AL65,AL69,AL70) -> #REF! | AM38: =+AJ38+AL38 -> #REF! | AV38: =+AH38+#REF! -> #REF!
B39: 21 | D39: GASTOS EN PERSONAL | F39: ='EJEC NO IMPRIMIR'!F39/EJECUTADO!$D$1 -> 13634018 | G39: ='EJEC NO IMPRIMIR'!G39/EJECUTADO!$D$1 -> 9404511.9 | H39: ='EJEC NO IMPRIMIR'!H39/EJECUTADO!$D$1 -> 0 | I39: ='EJEC NO IMPRIMIR'!I39/EJECUTADO!$D$1 -> 15572328 | J39: ='EJEC NO IMPRIMIR'!J39/EJECUTADO!$D$1 -> 0 | K39: ='EJEC NO IMPRIMIR'!K39/EJECUTADO!$D$1 -> 65158074 | L39: ='EJEC NO IMPRIMIR'!L39/EJECUTADO!$D$1 -> 5896873.7 | M39: ='EJEC NO IMPRIMIR'!M39/EJECUTADO!$D$1 -> 29134318 | ... AH39: ='EJEC NO IMPRIMIR'!AH39/EJECUTADO!$D$1 -> 2.1991257e+08 | AJ39: =+AH39-AE39-AD39 -> 2.1061028e+08 | AL39: =+#REF! -> #REF! | AM39: =+AJ39+AL39 -> #REF! | AP39: 123974792808 | AQ39: =+AP39/$AQ$8 -> 1.2397479e+08 | AR39: =+AM39-AQ39 -> #REF!
B40: 22 | D40: BIENES Y SERVICIOS DE CONSUMO | F40: ='EJEC NO IMPRIMIR'!F40/EJECUTADO!$D$1 -> 4151876 | G40: ='EJEC NO IMPRIMIR'!G40/EJECUTADO!$D$1 -> 511702.49 | H40: ='EJEC NO IMPRIMIR'!H40/EJECUTADO!$D$1 -> 0 | I40: ='EJEC NO IMPRIMIR'!I40/EJECUTADO!$D$1 -> 2500192.2 | J40: ='EJEC NO IMPRIMIR'!J40/EJECUTADO!$D$1 -> 6840483.3 | K40: ='EJEC NO IMPRIMIR'!K40/EJECUTADO!$D$1 -> 4522616.9 | L40: ='EJEC NO IMPRIMIR'!L40/EJECUTADO!$D$1 -> 2088258.7 | M40: ='EJEC NO IMPRIMIR'!M40/EJECUTADO!$D$1 -> 24546643 | ... AH40: ='EJEC NO IMPRIMIR'!AH40/EJECUTADO!$D$1 -> 55726904 | AJ40: =+AH40-AE40-AD40 -> 52485030 | AL40: =+#REF! -> #REF! | AM40: =+AJ40+AL40 -> #REF! | AP40: 8478333006 | AQ40: =+AP40/$AQ$8 -> 8478333 | AR40: =+AM40-AQ40 -> #REF!
B41: 23 | D41: PRESTACIONES DE SEG. SOCIAL | F41: ='EJEC NO IMPRIMIR'!F41/EJECUTADO!$D$1 -> 152600.04 | G41: ='EJEC NO IMPRIMIR'!G41/EJECUTADO!$D$1 -> 265803.52 | H41: ='EJEC NO IMPRIMIR'!H41/EJECUTADO!$D$1 -> 0 | I41: ='EJEC NO IMPRIMIR'!I41/EJECUTADO!$D$1 -> 468606.52 | J41: ='EJEC NO IMPRIMIR'!J41/EJECUTADO!$D$1 -> 0 | K41: ='EJEC NO IMPRIMIR'!K41/EJECUTADO!$D$1 -> 963615.57 | L41: ='EJEC NO IMPRIMIR'!L41/EJECUTADO!$D$1 -> 157699.49 | M41: ='EJEC NO IMPRIMIR'!M41/EJECUTADO!$D$1 -> 767155.56 | ... AH41: ='EJEC NO IMPRIMIR'!AH41/EJECUTADO!$D$1 -> 3934080.8 | AJ41: =+AH41-AE41-AD41 -> 3871296.8 | AM41: =+AJ41+AL41 -> 3871296.8 | AP41: 2901888644 | AQ41: =+AP41/$AQ$8 -> 2901888.6 | AR41: =+AM41-AQ41 -> 969408.19
B42: 24 | D42: TRANSFERENCIAS CORRIENTES | F42: ='EJEC NO IMPRIMIR'!F42/EJECUTADO!$D$1 -> 0 | G42: ='EJEC NO IMPRIMIR'!G42/EJECUTADO!$D$1 -> 0 | H42: ='EJEC NO IMPRIMIR'!H42/EJECUTADO!$D$1 -> 0 | I42: ='EJEC NO IMPRIMIR'!I42/EJECUTADO!$D$1 -> 0 | J42: ='EJEC NO IMPRIMIR'!J42/EJECUTADO!$D$1 -> 0 | K42: ='EJEC NO IMPRIMIR'!K42/EJECUTADO!$D$1 -> 0 | L42: ='EJEC NO IMPRIMIR'!L42/EJECUTADO!$D$1 -> 0 | M42: ='EJEC NO IMPRIMIR'!M42/EJECUTADO!$D$1 -> 0 | ... AH42: ='EJEC NO IMPRIMIR'!AH42/EJECUTADO!$D$1 -> 3140481 | AJ42: =+AH42-AE42-AD42 -> 3140481 | AM42: =+AJ42+AL42 -> 3140481 | AP42: 536526757 | AQ42: =+AP42/$AQ$8 -> 536526.76 | AR42: =+AM42-AQ42 -> 2603954.2
B43: 01 | D43: Al Sector Privado | F43: ='EJEC NO IMPRIMIR'!F43/EJECUTADO!$D$1 -> 0 | G43: ='EJEC NO IMPRIMIR'!G43/EJECUTADO!$D$1 -> 0 | H43: ='EJEC NO IMPRIMIR'!H43/EJECUTADO!$D$1 -> 0 | I43: ='EJEC NO IMPRIMIR'!I43/EJECUTADO!$D$1 -> 0 | J43: ='EJEC NO IMPRIMIR'!J43/EJECUTADO!$D$1 -> 0 | K43: ='EJEC NO IMPRIMIR'!K43/EJECUTADO!$D$1 -> 0 | L43: ='EJEC NO IMPRIMIR'!L43/EJECUTADO!$D$1 -> 0 | M43: ='EJEC NO IMPRIMIR'!M43/EJECUTADO!$D$1 -> 0 | ... AH43: ='EJEC NO IMPRIMIR'!AH43/EJECUTADO!$D$1 -> 267116.38
...
